BEGIN:VCALENDAR
VERSION:2.0
PRODID:-//Düsseldorfer Bürgerwehr | Düsseldorfs ältestes uniformiertes Korps - ECPv5.3.1.1//NONSGML v1.0//EN
CALSCALE:GREGORIAN
METHOD:PUBLISH
X-WR-CALNAME:Düsseldorfer Bürgerwehr | Düsseldorfs ältestes uniformiertes Korps
X-ORIGINAL-URL:https://www.duesseldorfer-buergerwehr-1892.org
X-WR-CALDESC:Veranstaltungen für Düsseldorfer Bürgerwehr | Düsseldorfs ältestes uniformiertes Korps
BEGIN:VTIMEZONE
TZID:Europe/Berlin
BEGIN:DAYLIGHT
TZOFFSETFROM:+0100
TZOFFSETTO:+0200
TZNAME:CEST
DTSTART:20230326T010000
END:DAYLIGHT
BEGIN:STANDARD
TZOFFSETFROM:+0200
TZOFFSETTO:+0100
TZNAME:CET
DTSTART:20231029T010000
END:STANDARD
END:VTIMEZONE
BEGIN:VEVENT
DTSTART;TZID=Europe/Berlin:20231121T070000
DTEND;TZID=Europe/Berlin:20231121T070000
DTSTAMP:20260420T015511
CREATED:20191028T144406Z
LAST-MODIFIED:20230810T151140Z
UID:2152-1700550000-1700550000@www.duesseldorfer-buergerwehr-1892.org
SUMMARY:4.Düsseldorfer Flüstersitzung Düsseldorfer Bürgerwehr 1892 & AVDK 1829 Düsseldorf
DESCRIPTION:Flüstersitzung 21 November 2023\nEinlass: 18:00 Uhr Beginn: 19:11 Uhr\nDie Düsseldorfer Bürgerwehr und der AVDK präsentieren etwas ganz Besonderes:\nKarneval in seiner schönsten und ursprünglichsten Form.Eine Sitzung ohne Partylautstärke aber mit umso mehr Inhalt.\nU.a. mit Guido Cantz\, Bernd Stelter\, Martin Schopps\, JP Weber\, Volker Weininger\, Jupp Mendt -ne kölsche Schutzmann\, die Kinderbürgerwehr\, das Prinzenpaar der Landeshauptstadt Düsseldorf\, das Orchester Michael Kuhl sowie die RABAUE mit einer speziellen Nostalgieshow.(Änderungen vorbehalten) \nRoncalli’s Apollo Varieté Theater\, Apollo-Platz 1\, Düsseldorf
URL:https://www.duesseldorfer-buergerwehr-1892.org/event/2152/
LOCATION:Apollo Variete\, Apollo Platz 1\, Düsseldorf\, NRW\, 40213\, Deutschland
END:VEVENT
END:VCALENDAR